BEGIN:VCALENDAR
VERSION:2.0
PRODID:-//Cumming City Center - ECPv6.15.15//NONSGML v1.0//EN
CALSCALE:GREGORIAN
METHOD:PUBLISH
X-WR-CALNAME:Cumming City Center
X-ORIGINAL-URL:https://cummingcitycenter.com
X-WR-CALDESC:Events for Cumming City Center
REFRESH-INTERVAL;VALUE=DURATION:PT1H
X-Robots-Tag:noindex
X-PUBLISHED-TTL:PT1H
BEGIN:VTIMEZONE
TZID:UTC
BEGIN:STANDARD
TZOFFSETFROM:+0000
TZOFFSETTO:+0000
TZNAME:UTC
DTSTART:20240101T000000
END:STANDARD
END:VTIMEZONE
BEGIN:VEVENT
DTSTART;TZID=UTC:20250719T050000
DTEND;TZID=UTC:20250719T220000
DTSTAMP:20260419T113254
CREATED:20250624T222356Z
LAST-MODIFIED:20250624T222527Z
UID:2423-1752901200-1752962400@cummingcitycenter.com
SUMMARY:Christmas in July
DESCRIPTION: Christmas in July is coming to town — and you’re invited! Join us Saturday\, July 19 from 5–10 PM at the Cumming City Center for a magical night of mid-summer holiday fun the whole family will love! What’s Happening: Kids Snowball Fight — 7:30 PM Kids Activities & Santa Visits — 5–8 PM Live Concert — 8–10 PM 15–20 Local Vendors bringing gifts\, treats & goodies — plus our amazing sponsors will be spreading holiday cheer with sweet surprises and festive fun! Mark your calendar. Tell your friends. Let’s make spirits bright!  \n\n\n\nInterested in being a vendor or sponsor?Apply Here: https://forms.gle/ewQkqVaa6uni6v2t7
URL:https://cummingcitycenter.com/event/christmas-in-july/
CATEGORIES:Markets/Festivals
ATTACH;FMTTYPE=image/jpeg:https://cummingcitycenter.com/wp-content/uploads/2025/06/504429029_714746534644183_6494615583533240697_n.jpg
END:VEVENT
END:VCALENDAR