BEGIN:VCALENDAR
VERSION:2.0
PRODID:-//Cumming City Center - ECPv6.15.15//NONSGML v1.0//EN
CALSCALE:GREGORIAN
METHOD:PUBLISH
X-WR-CALNAME:Cumming City Center
X-ORIGINAL-URL:https://cummingcitycenter.com
X-WR-CALDESC:Events for Cumming City Center
REFRESH-INTERVAL;VALUE=DURATION:PT1H
X-Robots-Tag:noindex
X-PUBLISHED-TTL:PT1H
BEGIN:VTIMEZONE
TZID:UTC
BEGIN:STANDARD
TZOFFSETFROM:+0000
TZOFFSETTO:+0000
TZNAME:UTC
DTSTART:20230101T000000
END:STANDARD
END:VTIMEZONE
BEGIN:VEVENT
DTSTART;TZID=UTC:20240217T120000
DTEND;TZID=UTC:20240217T160000
DTSTAMP:20260419T175138
CREATED:20250304T011933Z
LAST-MODIFIED:20250326T014017Z
UID:1777-1708171200-1708185600@cummingcitycenter.com
SUMMARY:Daydream Flower Truck
DESCRIPTION:Don’t miss the chance to visit the Daydream Flower Truck on Vision Drive on February 17th from 12:00 PM to 4:00 PM or until supplies last. Grab a beautiful bouquet or flower for your valentine and make their day extra special.
URL:https://cummingcitycenter.com/event/daydream-flower-truck-2/
ATTACH;FMTTYPE=image/jpeg:https://cummingcitycenter.com/wp-content/uploads/2023/05/flower-truck-1.jpg
END:VEVENT
END:VCALENDAR