BEGIN:VCALENDAR
VERSION:2.0
PRODID:-//Cumming City Center - ECPv6.15.15//NONSGML v1.0//EN
CALSCALE:GREGORIAN
METHOD:PUBLISH
X-WR-CALNAME:Cumming City Center
X-ORIGINAL-URL:https://cummingcitycenter.com
X-WR-CALDESC:Events for Cumming City Center
REFRESH-INTERVAL;VALUE=DURATION:PT1H
X-Robots-Tag:noindex
X-PUBLISHED-TTL:PT1H
BEGIN:VTIMEZONE
TZID:UTC
BEGIN:STANDARD
TZOFFSETFROM:+0000
TZOFFSETTO:+0000
TZNAME:UTC
DTSTART:20240101T000000
END:STANDARD
END:VTIMEZONE
BEGIN:VEVENT
DTSTART;TZID=UTC:20250329T120000
DTEND;TZID=UTC:20250329T160000
DTSTAMP:20260423T072252
CREATED:20250326T041403Z
LAST-MODIFIED:20250407T225724Z
UID:2040-1743249600-1743264000@cummingcitycenter.com
SUMMARY:Dog Dayz!
DESCRIPTION:Join us for Dog Dayz!\n\nLeave the cats at home and bring your good dog along to enjoy a paw-ty with us! Experience a fantastic lineup of dog vendors\, music\, engaging activities\, stylish dog accessories\, delicious treats\, and much more.\n\nThe event will be from 12 to 4 PM on March 29 at the Lou Sobh Amphitheater.\n\nIf you are interested in being a vendor\, email events@cummingcitycenter.com. Vendors should have a dog-related business.
URL:https://cummingcitycenter.com/event/dog-dayz/
CATEGORIES:Markets/Festivals
ATTACH;FMTTYPE=image/png:https://cummingcitycenter.com/wp-content/uploads/2025/01/Dog-Dayz-Spring.png
END:VEVENT
END:VCALENDAR