BEGIN:VCALENDAR
VERSION:2.0
PRODID:-//Cumming City Center - ECPv6.15.15//NONSGML v1.0//EN
CALSCALE:GREGORIAN
METHOD:PUBLISH
X-WR-CALNAME:Cumming City Center
X-ORIGINAL-URL:https://cummingcitycenter.com
X-WR-CALDESC:Events for Cumming City Center
REFRESH-INTERVAL;VALUE=DURATION:PT1H
X-Robots-Tag:noindex
X-PUBLISHED-TTL:PT1H
BEGIN:VTIMEZONE
TZID:UTC
BEGIN:STANDARD
TZOFFSETFROM:+0000
TZOFFSETTO:+0000
TZNAME:UTC
DTSTART:20240101T000000
END:STANDARD
END:VTIMEZONE
BEGIN:VEVENT
DTSTART;TZID=UTC:20250604T190000
DTEND;TZID=UTC:20250604T200000
DTSTAMP:20260420T091829
CREATED:20250519T211721Z
LAST-MODIFIED:20250519T211722Z
UID:2344-1749063600-1749067200@cummingcitycenter.com
SUMMARY:Global Running Day 2025
DESCRIPTION:The best day of the year is just almost here…Global Running Day!  It’s a day to celebrate a shared love of running and community\, and we want YOU to join the celebration with us! \n\n\n\nGRD is on Wednesday\, June 4\, 2025 and we will meet at Crooked Culture Brewing in Cumming City Center! The event kicks off at 7:00pm\, and good times await as you get your “passport” and “travel” with us!  \n\n\n\nDon’t miss this epic day! EVERYONE is invited to celebrate no matter your age\, pace\, or ability! It’s a day of fun\, so mark your calendars and we will see you there!
URL:https://cummingcitycenter.com/event/global-running-day-2025/
ATTACH;FMTTYPE=image/jpeg:https://cummingcitycenter.com/wp-content/uploads/2025/05/GLobal.jpg
ORGANIZER;CN="Big Peach Running - Cumming":MAILTO:cumming@bigpeachrunningco.com
END:VEVENT
END:VCALENDAR