BEGIN:VCALENDAR
VERSION:2.0
PRODID:-//Cumming City Center - ECPv6.15.15//NONSGML v1.0//EN
CALSCALE:GREGORIAN
METHOD:PUBLISH
X-WR-CALNAME:Cumming City Center
X-ORIGINAL-URL:https://cummingcitycenter.com
X-WR-CALDESC:Events for Cumming City Center
REFRESH-INTERVAL;VALUE=DURATION:PT1H
X-Robots-Tag:noindex
X-PUBLISHED-TTL:PT1H
BEGIN:VTIMEZONE
TZID:UTC
BEGIN:STANDARD
TZOFFSETFROM:+0000
TZOFFSETTO:+0000
TZNAME:UTC
DTSTART:20240101T000000
END:STANDARD
END:VTIMEZONE
BEGIN:VEVENT
DTSTART;TZID=UTC:20250531T130000
DTEND;TZID=UTC:20250531T160000
DTSTAMP:20260423T090401
CREATED:20250505T220201Z
LAST-MODIFIED:20250505T220641Z
UID:2300-1748696400-1748707200@cummingcitycenter.com
SUMMARY:Inaugural Sips of Summer
DESCRIPTION:Kicking off the summer with this incredible event!Enjoy samplings of beer\, wine\, seltzers\, and spirits!Live music at the Lou Sobh Amphitheater!Rain or shine eventBuy your tickets today Thewelltix.com
URL:https://cummingcitycenter.com/event/inaugural-sips-of-summer/
ATTACH;FMTTYPE=image/jpeg:https://cummingcitycenter.com/wp-content/uploads/2025/05/492614019_702956342298605_5370523315042539635_n.jpg
END:VEVENT
END:VCALENDAR