BEGIN:VCALENDAR
VERSION:2.0
PRODID:-//Cumming City Center - ECPv6.15.15//NONSGML v1.0//EN
CALSCALE:GREGORIAN
METHOD:PUBLISH
X-WR-CALNAME:Cumming City Center
X-ORIGINAL-URL:https://cummingcitycenter.com
X-WR-CALDESC:Events for Cumming City Center
REFRESH-INTERVAL;VALUE=DURATION:PT1H
X-Robots-Tag:noindex
X-PUBLISHED-TTL:PT1H
BEGIN:VTIMEZONE
TZID:America/New_York
BEGIN:DAYLIGHT
TZOFFSETFROM:-0500
TZOFFSETTO:-0400
TZNAME:EDT
DTSTART:20250309T070000
END:DAYLIGHT
BEGIN:STANDARD
TZOFFSETFROM:-0400
TZOFFSETTO:-0500
TZNAME:EST
DTSTART:20251102T060000
END:STANDARD
BEGIN:DAYLIGHT
TZOFFSETFROM:-0500
TZOFFSETTO:-0400
TZNAME:EDT
DTSTART:20260308T070000
END:DAYLIGHT
BEGIN:STANDARD
TZOFFSETFROM:-0400
TZOFFSETTO:-0500
TZNAME:EST
DTSTART:20261101T060000
END:STANDARD
BEGIN:DAYLIGHT
TZOFFSETFROM:-0500
TZOFFSETTO:-0400
TZNAME:EDT
DTSTART:20270314T070000
END:DAYLIGHT
BEGIN:STANDARD
TZOFFSETFROM:-0400
TZOFFSETTO:-0500
TZNAME:EST
DTSTART:20271107T060000
END:STANDARD
END:VTIMEZONE
BEGIN:VEVENT
DTSTART;TZID=America/New_York:20260730T110000
DTEND;TZID=America/New_York:20260730T140000
DTSTAMP:20260422T113810
CREATED:20260112T183838Z
LAST-MODIFIED:20260112T183841Z
UID:2867-1785409200-1785420000@cummingcitycenter.com
SUMMARY:Kidz Dayz – Back-to-School Bash! 
DESCRIPTION:Join us for Kidz Dayz – Back-to-School Bash! on July 30 from 11 a.m. to 2 p.m.We’ll be collecting donations of coats\, toys\, school supplies\, etc.Enjoy an afternoon packed with bounce houses\, outdoor games\, vendors\, face painting\, and plenty more. While the kids play\, parents can relax\, unwind\, and connect with one another. It’s the perfect day to soak up the sun and the fun.Jump N Jacks Moonwalks will keep the excitement going with bounce houses and games available until 4 p.m.Questions? Email events@cummingcitycenter.com
URL:https://cummingcitycenter.com/event/kidz-dayz-back-to-school-jump-n-jacks-moonwalks-summer/
ATTACH;FMTTYPE=image/jpeg:https://cummingcitycenter.com/wp-content/uploads/2026/01/612649567_1190766853230304_780029953728940558_n.jpg
END:VEVENT
END:VCALENDAR