BEGIN:VCALENDAR
VERSION:2.0
PRODID:-//Cumming City Center - ECPv6.15.15//NONSGML v1.0//EN
CALSCALE:GREGORIAN
METHOD:PUBLISH
X-WR-CALNAME:Cumming City Center
X-ORIGINAL-URL:https://cummingcitycenter.com
X-WR-CALDESC:Events for Cumming City Center
REFRESH-INTERVAL;VALUE=DURATION:PT1H
X-Robots-Tag:noindex
X-PUBLISHED-TTL:PT1H
BEGIN:VTIMEZONE
TZID:UTC
BEGIN:STANDARD
TZOFFSETFROM:+0000
TZOFFSETTO:+0000
TZNAME:UTC
DTSTART:20220101T000000
END:STANDARD
END:VTIMEZONE
BEGIN:VEVENT
DTSTART;TZID=UTC:20231002T180000
DTEND;TZID=UTC:20231002T190000
DTSTAMP:20260422T205209
CREATED:20250304T011336Z
LAST-MODIFIED:20250326T013517Z
UID:1749-1696269600-1696273200@cummingcitycenter.com
SUMMARY:Monday Meditation
DESCRIPTION:Monday got you down? get relaxed with Monday Meditation! \nFREE meditation class \nAll are Welcome! \n. \nThings to bring: \nMat \nWater \nFriends & Family \nFor all weather related delays or cancellations please contact Grit and Grace Hot Yoga directly via social platforms.
URL:https://cummingcitycenter.com/event/monday-meditation/
ATTACH;FMTTYPE=image/png:https://cummingcitycenter.com/wp-content/uploads/2023/09/meditation-2.png
END:VEVENT
END:VCALENDAR