BEGIN:VCALENDAR
VERSION:2.0
PRODID:-//Cumming City Center - ECPv6.15.15//NONSGML v1.0//EN
CALSCALE:GREGORIAN
METHOD:PUBLISH
X-WR-CALNAME:Cumming City Center
X-ORIGINAL-URL:https://cummingcitycenter.com
X-WR-CALDESC:Events for Cumming City Center
REFRESH-INTERVAL;VALUE=DURATION:PT1H
X-Robots-Tag:noindex
X-PUBLISHED-TTL:PT1H
BEGIN:VTIMEZONE
TZID:America/New_York
BEGIN:DAYLIGHT
TZOFFSETFROM:-0500
TZOFFSETTO:-0400
TZNAME:EDT
DTSTART:20250309T070000
END:DAYLIGHT
BEGIN:STANDARD
TZOFFSETFROM:-0400
TZOFFSETTO:-0500
TZNAME:EST
DTSTART:20251102T060000
END:STANDARD
BEGIN:DAYLIGHT
TZOFFSETFROM:-0500
TZOFFSETTO:-0400
TZNAME:EDT
DTSTART:20260308T070000
END:DAYLIGHT
BEGIN:STANDARD
TZOFFSETFROM:-0400
TZOFFSETTO:-0500
TZNAME:EST
DTSTART:20261101T060000
END:STANDARD
BEGIN:DAYLIGHT
TZOFFSETFROM:-0500
TZOFFSETTO:-0400
TZNAME:EDT
DTSTART:20270314T070000
END:DAYLIGHT
BEGIN:STANDARD
TZOFFSETFROM:-0400
TZOFFSETTO:-0500
TZNAME:EST
DTSTART:20271107T060000
END:STANDARD
END:VTIMEZONE
BEGIN:VEVENT
DTSTART;TZID=America/New_York:20261024T200000
DTEND;TZID=America/New_York:20261024T220000
DTSTAMP:20260423T123457
CREATED:20260224T202658Z
LAST-MODIFIED:20260311T211107Z
UID:3073-1792872000-1792879200@cummingcitycenter.com
SUMMARY:Movies Alfresco - ‘The Addams Family’ 
DESCRIPTION:Whether you’re a passionate movie lover or simply searching for a fun night out with friends\, our outdoor screenings offer the perfect way to unwind. From kid-friendly favorites to films the whole family can enjoy\, there’s something for everyone. Plus\, all your favorite snacks and drinks will be available for purchase. \n\n\n\nOn the Big Screen at Lou Sobh AmphitheaterOctober 24 – Featuring ‘The Addams Family’ at 8:00 PM \n\n\n\nJoin us for an evening of entertainment under the open sky\, where the only thing brighter than the screen is your smile. Settle in for a cozy night beneath the stars and enjoy a beloved classic on the big screen. \n\n\n\nIf you or your business would like to sponsor a movie night\, please email events@cummingcitycenter.com. \n\n\n\nReminders: Free admission & free parking. No coolers\, outside food\, outside alcoholic beverages\, cans\, glass bottles\, or smoking allowed. Friendly dogs on leash are welcome! BYO lawn chairs or blankets to sit on. Tents are not allowed. ALL minors MUST be accompanied by an adult.
URL:https://cummingcitycenter.com/event/movies-alfresco-addams-family-lou-sobh-amphitheater-october-24/
ATTACH;FMTTYPE=image/jpeg:https://cummingcitycenter.com/wp-content/uploads/2026/02/643345859_1230264359280553_3499053152084947905_n.jpg
END:VEVENT
END:VCALENDAR