BEGIN:VCALENDAR
VERSION:2.0
PRODID:-//Cumming City Center - ECPv6.15.15//NONSGML v1.0//EN
CALSCALE:GREGORIAN
METHOD:PUBLISH
X-WR-CALNAME:Cumming City Center
X-ORIGINAL-URL:https://cummingcitycenter.com
X-WR-CALDESC:Events for Cumming City Center
REFRESH-INTERVAL;VALUE=DURATION:PT1H
X-Robots-Tag:noindex
X-PUBLISHED-TTL:PT1H
BEGIN:VTIMEZONE
TZID:UTC
BEGIN:STANDARD
TZOFFSETFROM:+0000
TZOFFSETTO:+0000
TZNAME:UTC
DTSTART:20230101T000000
END:STANDARD
END:VTIMEZONE
BEGIN:VEVENT
DTSTART;TZID=UTC:20240503T180000
DTEND;TZID=UTC:20240503T220000
DTSTAMP:20260424T084124
CREATED:20250304T013133Z
LAST-MODIFIED:20250326T023916Z
UID:1836-1714759200-1714773600@cummingcitycenter.com
SUMMARY:Relay For Life of Forsyth County Celebration
DESCRIPTION:Relay For Life of Forsyth County Celebration\nPresented By Relay For Life of Forsyth County\n\nJoin us for a night of celebration for Cancer Survivors\, Fighters\, and Caretakers!\nWe will have teams present with fundraising items\, Kids zone\, entertainment\, and various vendors to advertise their businesses.\nThe event will kick off with a walk around the Lou Sobh Amphitheatre to celebrate our survivors\, sponsors\, and teams. At dusk\, we will have the Luminaria Lap to honor those who have bravely fought and survived cancer\, as well as to remember those who lost their battle.\nJoin us in making a difference in Forsyth County!\nIf you are interested in becoming a vendor\, there is a $100 donation fee. Please reach out to Pavica Brajinovic at pavica.brajinovic@cancer.org or 678-528-1998 for further inquiries or to confirm your participation at our event.\nWe kindly ask all participants to register on our website at www.relayforlife.org/forsythcountyga before or upon arrival at the event. You can also register as a survivor on our website and purchase a luminaria bag to honor a loved one.\nWe look forward to seeing you all there!\n2024 PRESENTING SPONSOR:\nNorthside Hospital Built to Beat Cancer
URL:https://cummingcitycenter.com/event/relay-for-life-of-forsyth-county-celebration/
END:VEVENT
END:VCALENDAR