BEGIN:VCALENDAR
VERSION:2.0
PRODID:-//Cumming City Center - ECPv6.15.15//NONSGML v1.0//EN
CALSCALE:GREGORIAN
METHOD:PUBLISH
X-WR-CALNAME:Cumming City Center
X-ORIGINAL-URL:https://cummingcitycenter.com
X-WR-CALDESC:Events for Cumming City Center
REFRESH-INTERVAL;VALUE=DURATION:PT1H
X-Robots-Tag:noindex
X-PUBLISHED-TTL:PT1H
BEGIN:VTIMEZONE
TZID:UTC
BEGIN:STANDARD
TZOFFSETFROM:+0000
TZOFFSETTO:+0000
TZNAME:UTC
DTSTART:20240101T000000
END:STANDARD
END:VTIMEZONE
BEGIN:VEVENT
DTSTART;TZID=UTC:20250916T183000
DTEND;TZID=UTC:20250916T213000
DTSTAMP:20260423T092026
CREATED:20250702T205624Z
LAST-MODIFIED:20250702T205625Z
UID:2444-1758047400-1758058200@cummingcitycenter.com
SUMMARY:Singles Social Tuesdays - Crooked Culture Brewing
DESCRIPTION:Join us for Singles Social Tuesdays at Crooked Culture on Tuesday\, September 16! This event is a fantastic chance for people of all ages to gather and enjoy a great time. Whether you’re hoping to meet someone special or just love meeting new people\, you’ll find plenty of moments to share stories\, laugh\, and create lasting memories. Everyone’s welcome!
URL:https://cummingcitycenter.com/event/singles-social-tuesdays-crooked-culture-brewing-3/
ATTACH;FMTTYPE=image/png:https://cummingcitycenter.com/wp-content/uploads/2025/07/Tuesday-Single-Social-master.png
END:VEVENT
END:VCALENDAR