BEGIN:VCALENDAR
VERSION:2.0
PRODID:-//Cumming City Center - ECPv6.15.15//NONSGML v1.0//EN
CALSCALE:GREGORIAN
METHOD:PUBLISH
X-WR-CALNAME:Cumming City Center
X-ORIGINAL-URL:https://cummingcitycenter.com
X-WR-CALDESC:Events for Cumming City Center
REFRESH-INTERVAL;VALUE=DURATION:PT1H
X-Robots-Tag:noindex
X-PUBLISHED-TTL:PT1H
BEGIN:VTIMEZONE
TZID:UTC
BEGIN:STANDARD
TZOFFSETFROM:+0000
TZOFFSETTO:+0000
TZNAME:UTC
DTSTART:20240101T000000
END:STANDARD
END:VTIMEZONE
BEGIN:VEVENT
DTSTART;TZID=UTC:20250531T190000
DTEND;TZID=UTC:20250531T210000
DTSTAMP:20260425T144458
CREATED:20250424T200626Z
LAST-MODIFIED:20250606T225902Z
UID:2204-1748718000-1748725200@cummingcitycenter.com
SUMMARY:Sunset Strip at the Lou Sobh Amphitheater
DESCRIPTION:Sunset Strip plays the best party hits from the 70’s 80’s to the 2000’s. \n\n\n\nSummer Concert Series at the Lou Sobh Amphitheater brought to you by The Providence Group. \n\n\n\nREMINDER: Free admission & free parking. No coolers\, outside food\, outside alcoholic beverages\, cans\, glass bottles\, or smoking allowed. Friendly dogs on-leash are welcome! BYO lawn chairs or blankets to sit on. Tents are not allowed.To ensure the safety and enjoyment of our patrons\, it is required that all balls are stored away once the music starts. Any throwing or kicking of objects is strictly prohibited during the show.
URL:https://cummingcitycenter.com/event/sunset-strip-at-the-lou-sobh-amphitheater/
ATTACH;FMTTYPE=image/png:https://cummingcitycenter.com/wp-content/uploads/2025/04/SUNSET-STRIP-5-31.png
END:VEVENT
END:VCALENDAR