BEGIN:VCALENDAR
VERSION:2.0
PRODID:-//Cumming City Center - ECPv6.15.15//NONSGML v1.0//EN
CALSCALE:GREGORIAN
METHOD:PUBLISH
X-WR-CALNAME:Cumming City Center
X-ORIGINAL-URL:https://cummingcitycenter.com
X-WR-CALDESC:Events for Cumming City Center
REFRESH-INTERVAL;VALUE=DURATION:PT1H
X-Robots-Tag:noindex
X-PUBLISHED-TTL:PT1H
BEGIN:VTIMEZONE
TZID:UTC
BEGIN:STANDARD
TZOFFSETFROM:+0000
TZOFFSETTO:+0000
TZNAME:UTC
DTSTART:20220101T000000
END:STANDARD
END:VTIMEZONE
BEGIN:VEVENT
DTSTART;TZID=UTC:20230726T190000
DTEND;TZID=UTC:20230726T210000
DTSTAMP:20260425T164024
CREATED:20250304T010533Z
LAST-MODIFIED:20250326T012718Z
UID:1710-1690398000-1690405200@cummingcitycenter.com
SUMMARY:The Human DJ
DESCRIPTION:The Human DJ\nPresented by Cumming City Center and Four Carson’s Entertainment at Lou Sobh Amphitheater\n\nFree admission & free parking. No coolers\, outside food\, outside alcoholic beverages\, cans\, glass bottles\, or smoking allowed. Friendly dogs on-leash are welcome! BYO lawn chairs or blankets to sit on. Tents are not allowed. \nThe Human DJ is a musician who since the age of six\, has been playing piano and trumpet practicing to eventually become a phenomenon performing for some of Atlanta’s top clubs and restaurants and now performing with a stellar group of local musicians a complete original catalog. The Human DJ is dedicated to spreading joy and positivity wherever he plays and is always grateful for any opportunity to share his love of music! \nPerfect for all ages and audiences.
URL:https://cummingcitycenter.com/event/the-human-dj/
ATTACH;FMTTYPE=image/jpeg:https://cummingcitycenter.com/wp-content/uploads/2023/06/The-Human-DJ.jpg
END:VEVENT
END:VCALENDAR