BEGIN:VCALENDAR
VERSION:2.0
PRODID:-//Cumming City Center - ECPv6.15.15//NONSGML v1.0//EN
CALSCALE:GREGORIAN
METHOD:PUBLISH
X-WR-CALNAME:Cumming City Center
X-ORIGINAL-URL:https://cummingcitycenter.com
X-WR-CALDESC:Events for Cumming City Center
REFRESH-INTERVAL;VALUE=DURATION:PT1H
X-Robots-Tag:noindex
X-PUBLISHED-TTL:PT1H
BEGIN:VTIMEZONE
TZID:UTC
BEGIN:STANDARD
TZOFFSETFROM:+0000
TZOFFSETTO:+0000
TZNAME:UTC
DTSTART:20220101T000000
END:STANDARD
END:VTIMEZONE
BEGIN:VEVENT
DTSTART;TZID=UTC:20230905T190000
DTEND;TZID=UTC:20230905T200000
DTSTAMP:20260422T170106
CREATED:20250304T010938Z
LAST-MODIFIED:20250326T013120Z
UID:1731-1693940400-1693944000@cummingcitycenter.com
SUMMARY:Zumba With Allyson
DESCRIPTION: Zumba Dance Party with Allyson – September 5th & 19th 7-8pm. This is one party you don’t want to miss! Allyson is bringing her FREE Latin-inspired dance fitness party back to the green at the Lou Sobh Amphitheater! The choreography is suitable for people of all abilities. Invite some friends and join the party! Mark your calendar for free classes. Bring a water bottle\, small towel\, wear tennis shoes\, and light clothing. Classes are held rain or shine. Plan to arrive early to find your spot on the dance floor!
URL:https://cummingcitycenter.com/event/zumba-with-allyson-5/
ATTACH;FMTTYPE=image/jpeg:https://cummingcitycenter.com/wp-content/uploads/2023/08/September-Zumba.jpg
END:VEVENT
END:VCALENDAR