BEGIN:VCALENDAR
VERSION:2.0
PRODID:-//Cumming City Center - ECPv6.15.15//NONSGML v1.0//EN
CALSCALE:GREGORIAN
METHOD:PUBLISH
X-ORIGINAL-URL:https://cummingcitycenter.com
X-WR-CALDESC:Events for Cumming City Center
REFRESH-INTERVAL;VALUE=DURATION:PT1H
X-Robots-Tag:noindex
X-PUBLISHED-TTL:PT1H
BEGIN:VTIMEZONE
TZID:UTC
BEGIN:STANDARD
TZOFFSETFROM:+0000
TZOFFSETTO:+0000
TZNAME:UTC
DTSTART:20240101T000000
END:STANDARD
END:VTIMEZONE
BEGIN:VEVENT
DTSTART;TZID=UTC:20250604T140000
DTEND;TZID=UTC:20250730T200000
DTSTAMP:20260425T101833
CREATED:20250326T032137Z
LAST-MODIFIED:20250429T170927Z
UID:10000285-1749045600-1753905600@cummingcitycenter.com
SUMMARY:Hooray for Jump Day!
DESCRIPTION:Looking for something to do with the kids? We’ve got you covered. Every Wednesday from June 4 to July 30 we will have Hooray for Jump Day!\nThe Cumming City Center is teaming up with Jump N Jacks Moonwalks to bring this exciting event that includes bounce houses\, waterslides and games.\nThe cost is $10 per child.
URL:https://cummingcitycenter.com/event/hooray-for-jump-day/
CATEGORIES:Markets/Festivals
ATTACH;FMTTYPE=image/png:https://cummingcitycenter.com/wp-content/uploads/2025/01/JUMP-N-JACKS-wed.png
END:VEVENT
BEGIN:VEVENT
DTSTART;TZID=UTC:20250703T180000
DTEND;TZID=UTC:20250703T200000
DTSTAMP:20260425T101833
CREATED:20250326T032537Z
LAST-MODIFIED:20250407T222647Z
UID:10000294-1751565600-1751572800@cummingcitycenter.com
SUMMARY:Tin Cup Cruise-In
DESCRIPTION:Get ready for an evening of classic cars and family fun! The Tin Cup Cruise-In Car Show will take place from 6pm-8pm on the first Thursday of every month beginning in April and running through October.The road will be shut down prior to the event. Beginning at 5pm classic cars can enter through the Canton Road entrance and park up the main street on a first come first serve basis. The street will be closed off once all car slots are full.Admission and parking are free. Plenty of parking will be available in the parking deck and overflow lots.There will be prizes from our very own Tin Cup! You don’t want to miss out on this Cruise-In fun!
URL:https://cummingcitycenter.com/event/tin-cup-cruise-in-15/
CATEGORIES:Other Events
ATTACH;FMTTYPE=image/png:https://cummingcitycenter.com/wp-content/uploads/2025/01/Tin-Cup-Cruise-In-July.png
END:VEVENT
BEGIN:VEVENT
DTSTART;TZID=UTC:20250703T183000
DTEND;TZID=UTC:20250703T213000
DTSTAMP:20260425T101833
CREATED:20250522T233516Z
LAST-MODIFIED:20250522T233519Z
UID:10000517-1751567400-1751578200@cummingcitycenter.com
SUMMARY:Cumming City Center Summer Cornhole League
DESCRIPTION:🎯 Cumming City Center Cornhole League – Summer 🎯 \n\n\n\nCumming City Center Cornhole League & Cumming City Center are bringing the heat this summer with nonstop cornhole action at the Lou Sobh Amphitheater! 🌞 \n\n\n\n📍 Starting June 5th\, come out every Thursday night for competitive games\, cold brews\, and tasty eats. \n\n\n\n🕶️ Bonus nights! Wednesday night games at Brewer’s Alley are still on – that’s two nights a week to toss and chill! \n\n\n\n📅 Sign-Up Deadline: June 3rd📌 All players must be registered to participate! \n\n\n\n👉 Learn more & register now:www.leagues.georgiacornholeevents.com \n\n\n\nLet’s throw some bags and make this summer legendary! 🍻
URL:https://cummingcitycenter.com/event/cumming-city-center-summer-cornhole-league/2025-07-03/
LOCATION:The Lou Sobh Amphitheater
CATEGORIES:Leagues
ATTACH;FMTTYPE=image/png:https://cummingcitycenter.com/wp-content/uploads/2025/05/THU-Summer-Social-Cornhole-League-4.png
END:VEVENT
END:VCALENDAR