BEGIN:VCALENDAR
VERSION:2.0
PRODID:-//Cumming City Center - ECPv6.15.15//NONSGML v1.0//EN
CALSCALE:GREGORIAN
METHOD:PUBLISH
X-ORIGINAL-URL:https://cummingcitycenter.com
X-WR-CALDESC:Events for Cumming City Center
REFRESH-INTERVAL;VALUE=DURATION:PT1H
X-Robots-Tag:noindex
X-PUBLISHED-TTL:PT1H
BEGIN:VTIMEZONE
TZID:UTC
BEGIN:STANDARD
TZOFFSETFROM:+0000
TZOFFSETTO:+0000
TZNAME:UTC
DTSTART:20240101T000000
END:STANDARD
END:VTIMEZONE
BEGIN:VEVENT
DTSTART;TZID=UTC:20250604T140000
DTEND;TZID=UTC:20250730T200000
DTSTAMP:20260423T045320
CREATED:20250326T032137Z
LAST-MODIFIED:20250429T170927Z
UID:10000285-1749045600-1753905600@cummingcitycenter.com
SUMMARY:Hooray for Jump Day!
DESCRIPTION:Looking for something to do with the kids? We’ve got you covered. Every Wednesday from June 4 to July 30 we will have Hooray for Jump Day!\nThe Cumming City Center is teaming up with Jump N Jacks Moonwalks to bring this exciting event that includes bounce houses\, waterslides and games.\nThe cost is $10 per child.
URL:https://cummingcitycenter.com/event/hooray-for-jump-day/
CATEGORIES:Markets/Festivals
ATTACH;FMTTYPE=image/png:https://cummingcitycenter.com/wp-content/uploads/2025/01/JUMP-N-JACKS-wed.png
END:VEVENT
BEGIN:VEVENT
DTSTART;TZID=UTC:20250722T183000
DTEND;TZID=UTC:20250722T213000
DTSTAMP:20260423T045320
CREATED:20250702T204432Z
LAST-MODIFIED:20250702T204434Z
UID:10000543-1753209000-1753219800@cummingcitycenter.com
SUMMARY:Singles Social Tuesdays - Crooked Culture Brewing
DESCRIPTION:Join us for Singles Social Tuesdays at Crooked Culture on Tuesday\, July 22! This event is a fantastic chance for people of all ages to gather and enjoy a great time. Whether you’re hoping to meet someone special or just love meeting new people\, you’ll find plenty of moments to share stories\, laugh\, and create lasting memories. Everyone’s welcome!
URL:https://cummingcitycenter.com/event/singles-social-tuesdays-crooked-culture-brewing-2/
ATTACH;FMTTYPE=image/png:https://cummingcitycenter.com/wp-content/uploads/2025/07/Tuesday-Single-Social-master.png
END:VEVENT
BEGIN:VEVENT
DTSTART;TZID=UTC:20250722T190000
DTEND;TZID=UTC:20250722T200000
DTSTAMP:20260423T045320
CREATED:20250326T031619Z
LAST-MODIFIED:20250407T222213Z
UID:10000260-1753210800-1753214400@cummingcitycenter.com
SUMMARY:Zumba
DESCRIPTION:This is one party you don’t want to miss!\nAllyson is bringing her FREE Latin-inspired dance fitness party to the green at the Lou Sobh Amphitheater.\nThe choreography is suitable for people of all abilities. The class runs from 6-7 pm. Bring a water bottle\, small towel\, wear tennis shoes\, and light clothing. Classes are held rain or shine. Plan to arrive early to find your spot on the dance floor. The class is FREE! For more information\, visit www.facebook.com/groups/georgiazumba
URL:https://cummingcitycenter.com/event/zumba-8/
CATEGORIES:Workouts/5Ks
ATTACH;FMTTYPE=image/png:https://cummingcitycenter.com/wp-content/uploads/2024/12/Zumba-2025-1.png
END:VEVENT
END:VCALENDAR