BEGIN:VCALENDAR
VERSION:2.0
PRODID:-//Cumming City Center - ECPv6.15.15//NONSGML v1.0//EN
CALSCALE:GREGORIAN
METHOD:PUBLISH
X-WR-CALNAME:Cumming City Center
X-ORIGINAL-URL:https://cummingcitycenter.com
X-WR-CALDESC:Events for Cumming City Center
REFRESH-INTERVAL;VALUE=DURATION:PT1H
X-Robots-Tag:noindex
X-PUBLISHED-TTL:PT1H
BEGIN:VTIMEZONE
TZID:UTC
BEGIN:STANDARD
TZOFFSETFROM:+0000
TZOFFSETTO:+0000
TZNAME:UTC
DTSTART:20240101T000000
END:STANDARD
END:VTIMEZONE
BEGIN:VEVENT
DTSTART;TZID=UTC:20250604T140000
DTEND;TZID=UTC:20250730T200000
DTSTAMP:20260425T065102
CREATED:20250326T032137Z
LAST-MODIFIED:20250429T170927Z
UID:10000285-1749045600-1753905600@cummingcitycenter.com
SUMMARY:Hooray for Jump Day!
DESCRIPTION:Looking for something to do with the kids? We’ve got you covered. Every Wednesday from June 4 to July 30 we will have Hooray for Jump Day!\nThe Cumming City Center is teaming up with Jump N Jacks Moonwalks to bring this exciting event that includes bounce houses\, waterslides and games.\nThe cost is $10 per child.
URL:https://cummingcitycenter.com/event/hooray-for-jump-day/
CATEGORIES:Markets/Festivals
ATTACH;FMTTYPE=image/png:https://cummingcitycenter.com/wp-content/uploads/2025/01/JUMP-N-JACKS-wed.png
END:VEVENT
BEGIN:VEVENT
DTSTART;TZID=UTC:20250723T093000
DTEND;TZID=UTC:20250723T103000
DTSTAMP:20260425T065102
CREATED:20250522T220718Z
LAST-MODIFIED:20250522T232023Z
UID:10000464-1753263000-1753266600@cummingcitycenter.com
SUMMARY:Wednesday Yoga on the Lawn with The Heart Studio
DESCRIPTION:Grab your mats for an amazing outdoor yoga class at the Cumming City Center Lou Sobh Amphitheater! \n\n\n\nEvery Wednesday from 9:30 to 10:30 AM from April 2 through October 29.This is A FREE – All Levels Yoga class.This class will end with a Meditation session.All are Welcome! \n\n\n\nWhat to bring:-Mat-Water-Friends & FamilyFor all weather-related delays or cancellations\, visit The Heart Studio Yoga on social media. \n\n\n\nFind them on Facebook at The Heart Studio Yoga\, Therapy\, & Wellness and Instagram @theheartstudioyoga.
URL:https://cummingcitycenter.com/event/wednesday-yoga-on-the-lawn-with-the-heart-studio/2025-07-23/
LOCATION:The Lou Sobh Amphitheater
CATEGORIES:Workouts/5Ks
ATTACH;FMTTYPE=image/png:https://cummingcitycenter.com/wp-content/uploads/2025/05/YOGA-WED-Morning.png
END:VEVENT
BEGIN:VEVENT
DTSTART;TZID=UTC:20250723T140000
DTEND;TZID=UTC:20250723T200000
DTSTAMP:20260425T065102
CREATED:20250503T223642Z
LAST-MODIFIED:20250503T223647Z
UID:10000408-1753279200-1753300800@cummingcitycenter.com
SUMMARY:Hooray for Jump Day!
DESCRIPTION:Looking for something to do with the kids? We’ve got you covered. Every Wednesday from June 4 to July 30 we will have Hooray for Jump Day! from 2-8PM.The Cumming City Center is teaming up with Jump N Jacks Moonwalks to bring this exciting event that includes bounce houses\, waterslides and games.The cost is $10 per child.
URL:https://cummingcitycenter.com/event/hooray-for-jump-day-8/
ATTACH;FMTTYPE=image/jpeg:https://cummingcitycenter.com/wp-content/uploads/2025/05/hOORAY.jpg
END:VEVENT
BEGIN:VEVENT
DTSTART;TZID=UTC:20250723T183000
DTEND;TZID=UTC:20250723T203000
DTSTAMP:20260425T065102
CREATED:20250522T220242Z
LAST-MODIFIED:20250522T220243Z
UID:10000455-1753295400-1753302600@cummingcitycenter.com
SUMMARY:Brewer's Alley Summer Social Cornhole
DESCRIPTION: Brewer’s Alley Summer Social Cornhole Lanier Cornhole Club & Cumming City Center Cornhole League are teaming up with Cumming City Center & Crooked Culture Brewing to bring you an unforgettable summer of cornhole action!  \n\n\n\n Starting June 4th\, join us every Wednesday night at Brewer’s Alley for competitive fun and cold brews. \n\n\n\n Thursday nights are still on at the Lou Sobh Amphitheater\, so you’ve got double the chances to toss and chill! \n\n\n\n Deadline to Sign Up: June 3rd All players must be registered to participate! \n\n\n\n Learn more & register now:www.leagues.georgiacornholeevents.com \n\n\n\nLet’s throw bags and make this summer legendary! 
URL:https://cummingcitycenter.com/event/brewers-alley-summer-social-cornhole/2025-07-23/
CATEGORIES:Leagues
ATTACH;FMTTYPE=image/png:https://cummingcitycenter.com/wp-content/uploads/2025/05/WED-Summer-Social-Cornhole-League-3.png
END:VEVENT
END:VCALENDAR