BEGIN:VCALENDAR
VERSION:2.0
PRODID:-//Cumming City Center - ECPv6.15.15//NONSGML v1.0//EN
CALSCALE:GREGORIAN
METHOD:PUBLISH
X-WR-CALNAME:Cumming City Center
X-ORIGINAL-URL:https://cummingcitycenter.com
X-WR-CALDESC:Events for Cumming City Center
REFRESH-INTERVAL;VALUE=DURATION:PT1H
X-Robots-Tag:noindex
X-PUBLISHED-TTL:PT1H
BEGIN:VTIMEZONE
TZID:UTC
BEGIN:STANDARD
TZOFFSETFROM:+0000
TZOFFSETTO:+0000
TZNAME:UTC
DTSTART:20240101T000000
END:STANDARD
END:VTIMEZONE
BEGIN:VEVENT
DTSTART;TZID=UTC:20251115T190000
DTEND;TZID=UTC:20251115T210000
DTSTAMP:20260422T190323
CREATED:20250424T203439Z
LAST-MODIFIED:20251106T154215Z
UID:10000384-1763233200-1763240400@cummingcitycenter.com
SUMMARY:TRAVOLTA - A tribute to Studio 54 and More! - at Lou Sobh Amphitheater
DESCRIPTION:TRAVOLTA “A tribute to Studio 54 and More!”The name Travolta is synonymous with all things disco nostalgia and says it allThis amazingly entertaining band brings ALL the good times and huge hits of the 1970’s discotheque era\, plus the greatest dance pop hits of all time from the likes of Michael Jackson\, Prince\, Lionel Richie and more! \n\n\n\n \n\n\n\n \n\n\n\nREMINDER: Free admission & free parking. No coolers\, outside food\, outside alcoholic beverages\, cans\, glass bottles\, or smoking allowed. Friendly dogs on-leash are welcome! BYO lawn chairs or blankets to sit on. Tents are not allowed.To ensure the safety and enjoyment of our patrons\, it is required that all balls are stored away once the music starts. Any throwing or kicking of objects is strictly prohibited during the show.
URL:https://cummingcitycenter.com/event/travolta-a-tribute-to-studio-54-and-more-at-lou-sobh-amphitheater/
ATTACH;FMTTYPE=image/jpeg:https://cummingcitycenter.com/wp-content/uploads/2025/04/Travolta.jpg
END:VEVENT
END:VCALENDAR