BEGIN:VCALENDAR
VERSION:2.0
PRODID:-//Cumming City Center - ECPv6.15.15//NONSGML v1.0//EN
CALSCALE:GREGORIAN
METHOD:PUBLISH
X-ORIGINAL-URL:https://cummingcitycenter.com
X-WR-CALDESC:Events for Cumming City Center
REFRESH-INTERVAL;VALUE=DURATION:PT1H
X-Robots-Tag:noindex
X-PUBLISHED-TTL:PT1H
BEGIN:VTIMEZONE
TZID:America/New_York
BEGIN:DAYLIGHT
TZOFFSETFROM:-0500
TZOFFSETTO:-0400
TZNAME:EDT
DTSTART:20240310T070000
END:DAYLIGHT
BEGIN:STANDARD
TZOFFSETFROM:-0400
TZOFFSETTO:-0500
TZNAME:EST
DTSTART:20241103T060000
END:STANDARD
BEGIN:DAYLIGHT
TZOFFSETFROM:-0500
TZOFFSETTO:-0400
TZNAME:EDT
DTSTART:20250309T070000
END:DAYLIGHT
BEGIN:STANDARD
TZOFFSETFROM:-0400
TZOFFSETTO:-0500
TZNAME:EST
DTSTART:20251102T060000
END:STANDARD
BEGIN:DAYLIGHT
TZOFFSETFROM:-0500
TZOFFSETTO:-0400
TZNAME:EDT
DTSTART:20260308T070000
END:DAYLIGHT
BEGIN:STANDARD
TZOFFSETFROM:-0400
TZOFFSETTO:-0500
TZNAME:EST
DTSTART:20261101T060000
END:STANDARD
END:VTIMEZONE
BEGIN:VEVENT
DTSTART;TZID=America/New_York:20251224T083000
DTEND;TZID=America/New_York:20251224T150000
DTSTAMP:20260422T150755
CREATED:20251122T212933Z
LAST-MODIFIED:20251122T213104Z
UID:10000614-1766565000-1766588400@cummingcitycenter.com
SUMMARY:Santa Shuffle 5K & Fun Run
DESCRIPTION:Our annual Santa Shuffle is back on Christmas Eve and it’s getting an upgrade … to the Ugly Sweater edition!  \n\n\n\nRegistering early will guarantee the most amazing ugly sweater swag and a festive medal at the finish! Everyone is welcome to run/walk/shuffle their way through the 5K or the fun run for the little ones. Come in your Christmas finest\, and we will see you there!  \n\n\n\n5K @ 8:30amFun Run @ 9:30am \n\n\n\nREGISTER HERE  https://runsignup.com/santashuffle5k
URL:https://cummingcitycenter.com/event/ugly-sweater-fun-run-5k-santa-santa-shuffle/
END:VEVENT
END:VCALENDAR