BEGIN:VCALENDAR
VERSION:2.0
PRODID:-//Cumming City Center - ECPv6.15.15//NONSGML v1.0//EN
CALSCALE:GREGORIAN
METHOD:PUBLISH
X-WR-CALNAME:Cumming City Center
X-ORIGINAL-URL:https://cummingcitycenter.com
X-WR-CALDESC:Events for Cumming City Center
REFRESH-INTERVAL;VALUE=DURATION:PT1H
X-Robots-Tag:noindex
X-PUBLISHED-TTL:PT1H
BEGIN:VTIMEZONE
TZID:America/New_York
BEGIN:DAYLIGHT
TZOFFSETFROM:-0500
TZOFFSETTO:-0400
TZNAME:EDT
DTSTART:20250309T070000
END:DAYLIGHT
BEGIN:STANDARD
TZOFFSETFROM:-0400
TZOFFSETTO:-0500
TZNAME:EST
DTSTART:20251102T060000
END:STANDARD
BEGIN:DAYLIGHT
TZOFFSETFROM:-0500
TZOFFSETTO:-0400
TZNAME:EDT
DTSTART:20260308T070000
END:DAYLIGHT
BEGIN:STANDARD
TZOFFSETFROM:-0400
TZOFFSETTO:-0500
TZNAME:EST
DTSTART:20261101T060000
END:STANDARD
BEGIN:DAYLIGHT
TZOFFSETFROM:-0500
TZOFFSETTO:-0400
TZNAME:EDT
DTSTART:20270314T070000
END:DAYLIGHT
BEGIN:STANDARD
TZOFFSETFROM:-0400
TZOFFSETTO:-0500
TZNAME:EST
DTSTART:20271107T060000
END:STANDARD
END:VTIMEZONE
BEGIN:VEVENT
DTSTART;TZID=America/New_York:20260417T083000
DTEND;TZID=America/New_York:20260417T093000
DTSTAMP:20260423T053236
CREATED:20260330T202909Z
LAST-MODIFIED:20260330T202948Z
UID:10000940-1776414600-1776418200@cummingcitycenter.com
SUMMARY:Friday Mood: Jazzercise Move & Groove on the Lawn
DESCRIPTION:Fridays at 8:30 AMThis invigorating session will boost your heart health\, tone your muscles\, and leave you feeling uplifted. All fitness levels are welcome — come join the fun!What to Bring: \n\n\n\nA bottle of water to stay hydratedWe’re excited to see you there!Note there will be no Jazzercise May 22nd.For all weather-related delays or cancellations\, visit our website\, the Jazzercise App or check our Instagram page @jazzercisecumminggeorgia.Free \n\n\n\nHandheld weights (5-10 pounds is recommended) \n\n\n\nAn exercise mat for floor work
URL:https://cummingcitycenter.com/event/free-friday-morning-jazzercise/2026-04-17/
CATEGORIES:Workouts/5Ks
ATTACH;FMTTYPE=image/png:https://cummingcitycenter.com/wp-content/uploads/2026/03/wo.png
END:VEVENT
BEGIN:VEVENT
DTSTART;TZID=America/New_York:20260417T190000
DTEND;TZID=America/New_York:20260417T210000
DTSTAMP:20260423T053236
CREATED:20260112T204947Z
LAST-MODIFIED:20260112T204948Z
UID:10000720-1776452400-1776459600@cummingcitycenter.com
SUMMARY:Human Clay at the Lou Sobh Amphitheater
DESCRIPTION:Human Clay brings you the Ultimate Creed experience.Human Clay is Florida’s National Touring Premier Creed Tribute band. Hailing from Central Florida\, “Human Clay – Bringing Creed’s Legacy to Life.” We bring you all the hits you know and love. You won’t want to miss a Human Clay Show! \n\n\n\nSpring Concert Series at the Lou Sobh Amphitheater brought to you by The Providence Group. \n\n\n\nREMINDER: Free admission & free parking. No coolers\, outside food\, outside alcoholic beverages\, cans\, glass bottles\, or smoking allowed. Friendly dogs on-leash are welcome! BYO lawn chairs or blankets to sit on. Tents are not allowed.To ensure the safety and enjoyment of our patrons\, it is required that all balls are stored away once the music starts. Any throwing or kicking of objects is strictly prohibited during the show.
URL:https://cummingcitycenter.com/event/human-clay-creed-cumming-city-center/
ATTACH;FMTTYPE=image/jpeg:https://cummingcitycenter.com/wp-content/uploads/2026/01/615281754_1195028836137439_2231191482677540060_n.jpg
END:VEVENT
END:VCALENDAR