BEGIN:VCALENDAR
VERSION:2.0
PRODID:-//Cumming City Center - ECPv6.15.15//NONSGML v1.0//EN
CALSCALE:GREGORIAN
METHOD:PUBLISH
X-WR-CALNAME:Cumming City Center
X-ORIGINAL-URL:https://cummingcitycenter.com
X-WR-CALDESC:Events for Cumming City Center
REFRESH-INTERVAL;VALUE=DURATION:PT1H
X-Robots-Tag:noindex
X-PUBLISHED-TTL:PT1H
BEGIN:VTIMEZONE
TZID:America/New_York
BEGIN:DAYLIGHT
TZOFFSETFROM:-0500
TZOFFSETTO:-0400
TZNAME:EDT
DTSTART:20250309T070000
END:DAYLIGHT
BEGIN:STANDARD
TZOFFSETFROM:-0400
TZOFFSETTO:-0500
TZNAME:EST
DTSTART:20251102T060000
END:STANDARD
BEGIN:DAYLIGHT
TZOFFSETFROM:-0500
TZOFFSETTO:-0400
TZNAME:EDT
DTSTART:20260308T070000
END:DAYLIGHT
BEGIN:STANDARD
TZOFFSETFROM:-0400
TZOFFSETTO:-0500
TZNAME:EST
DTSTART:20261101T060000
END:STANDARD
BEGIN:DAYLIGHT
TZOFFSETFROM:-0500
TZOFFSETTO:-0400
TZNAME:EDT
DTSTART:20270314T070000
END:DAYLIGHT
BEGIN:STANDARD
TZOFFSETFROM:-0400
TZOFFSETTO:-0500
TZNAME:EST
DTSTART:20271107T060000
END:STANDARD
END:VTIMEZONE
BEGIN:VEVENT
DTSTART;TZID=America/New_York:20260508T083000
DTEND;TZID=America/New_York:20260508T093000
DTSTAMP:20260422T090142
CREATED:20260330T202909Z
LAST-MODIFIED:20260330T202948Z
UID:10000943-1778229000-1778232600@cummingcitycenter.com
SUMMARY:Friday Mood: Jazzercise Move & Groove on the Lawn
DESCRIPTION:Fridays at 8:30 AMThis invigorating session will boost your heart health\, tone your muscles\, and leave you feeling uplifted. All fitness levels are welcome — come join the fun!What to Bring: \n\n\n\nA bottle of water to stay hydratedWe’re excited to see you there!Note there will be no Jazzercise May 22nd.For all weather-related delays or cancellations\, visit our website\, the Jazzercise App or check our Instagram page @jazzercisecumminggeorgia.Free \n\n\n\nHandheld weights (5-10 pounds is recommended) \n\n\n\nAn exercise mat for floor work
URL:https://cummingcitycenter.com/event/free-friday-morning-jazzercise/2026-05-08/
CATEGORIES:Workouts/5Ks
ATTACH;FMTTYPE=image/png:https://cummingcitycenter.com/wp-content/uploads/2026/03/wo.png
END:VEVENT
BEGIN:VEVENT
DTSTART;TZID=America/New_York:20260508T200000
DTEND;TZID=America/New_York:20260508T220000
DTSTAMP:20260422T090142
CREATED:20260115T145043Z
LAST-MODIFIED:20260115T145046Z
UID:10000735-1778270400-1778277600@cummingcitycenter.com
SUMMARY:Mic Check One-Two at the Lou Sobh Amphitheater
DESCRIPTION:Mic Check One-Two brings funky choreography\, old-school hip-hop band\, and breakbeat attitude to Cumming City Center. Available as a high-energy 10-piece crew or a tight 7-piece for smaller venues—never losing the vibe. \n\n\n\nSpring Concert Series at the Lou Sobh Amphitheater brought to you by The Providence Group. \n\n\n\nREMINDER: Free admission & free parking. No coolers\, outside food\, outside alcoholic beverages\, cans\, glass bottles\, or smoking allowed. Friendly dogs on-leash are welcome! BYO lawn chairs or blankets to sit on. Tents are not allowed.To ensure the safety and enjoyment of our patrons\, it is required that all balls are stored away once the music starts. Any throwing or kicking of objects is strictly prohibited during the show.
URL:https://cummingcitycenter.com/event/live-old-school-hip-hop-band-cumming-ga/
ATTACH;FMTTYPE=image/png:https://cummingcitycenter.com/wp-content/uploads/2026/01/MIC-CHECK-5-8.png
END:VEVENT
END:VCALENDAR