BEGIN:VCALENDAR
VERSION:2.0
PRODID:-//Cumming City Center - ECPv6.15.15//NONSGML v1.0//EN
CALSCALE:GREGORIAN
METHOD:PUBLISH
X-WR-CALNAME:Cumming City Center
X-ORIGINAL-URL:https://cummingcitycenter.com
X-WR-CALDESC:Events for Cumming City Center
REFRESH-INTERVAL;VALUE=DURATION:PT1H
X-Robots-Tag:noindex
X-PUBLISHED-TTL:PT1H
BEGIN:VTIMEZONE
TZID:UTC
BEGIN:STANDARD
TZOFFSETFROM:+0000
TZOFFSETTO:+0000
TZNAME:UTC
DTSTART:20240101T000000
END:STANDARD
END:VTIMEZONE
BEGIN:VEVENT
DTSTART;TZID=UTC:20250613T200000
DTEND;TZID=UTC:20250613T220000
DTSTAMP:20260425T101514
CREATED:20250326T042103Z
LAST-MODIFIED:20250606T230056Z
UID:10000334-1749844800-1749852000@cummingcitycenter.com
SUMMARY:The Stranger - Billy Joel Tribute at The Lou Sobh Amphitheater
DESCRIPTION:Summer Concert Series at the Lou Sobh Amphitheater brought to you by The Providence Group. \n\nThe Stranger is the most authentic tribute to Billy Joel. Comprised of some of the best and most experienced musicians in the business\, this band brings together an authentic replication of Billy’s timeless music\, crowning it with soulful\, spot-on vocals that makes listening to a Billy Joel song so special.Out front on piano & lead vocals is founder & front man Mike Santoro. Born and raised in Levittown\, N.Y. Like Joel himself\, Mike resembles\, sounds\, entertains and has the stage presence of Billy Joel in his prime. With an unparalleled band of musicians that hums like a well-oiled machine\, the result is a show that is not to be missed.We give you the Billy Joel show with the sound of his original band in his prime… energetic\, interactive an often unpredictable. Its live entertainment at its best!\n \nREMINDER: Free admission & free parking. No coolers\, outside food\, outside alcoholic beverages\, cans\, glass bottles\, or smoking allowed. Friendly dogs on-leash are welcome! BYO lawn chairs or blankets to sit on. Tents are not allowed.To ensure the safety and enjoyment of our patrons\, it is required that all balls are stored away once the music starts. Any throwing or kicking of objects is strictly prohibited during the show.
URL:https://cummingcitycenter.com/event/the-stranger-billy-joel-tribute-at-the-lou-sobh-amphitheater/
CATEGORIES:Concert
ATTACH;FMTTYPE=image/png:https://cummingcitycenter.com/wp-content/uploads/2025/03/stranger-6-13.png
END:VEVENT
END:VCALENDAR