BEGIN:VCALENDAR
VERSION:2.0
PRODID:-//Cumming City Center - ECPv6.15.15//NONSGML v1.0//EN
CALSCALE:GREGORIAN
METHOD:PUBLISH
X-WR-CALNAME:Cumming City Center
X-ORIGINAL-URL:https://cummingcitycenter.com
X-WR-CALDESC:Events for Cumming City Center
REFRESH-INTERVAL;VALUE=DURATION:PT1H
X-Robots-Tag:noindex
X-PUBLISHED-TTL:PT1H
BEGIN:VTIMEZONE
TZID:UTC
BEGIN:STANDARD
TZOFFSETFROM:+0000
TZOFFSETTO:+0000
TZNAME:UTC
DTSTART:20240101T000000
END:STANDARD
END:VTIMEZONE
BEGIN:VEVENT
DTSTART;TZID=UTC:20250614T200000
DTEND;TZID=UTC:20250614T220000
DTSTAMP:20260423T114451
CREATED:20250326T042202Z
LAST-MODIFIED:20250606T230044Z
UID:10000335-1749931200-1749938400@cummingcitycenter.com
SUMMARY:Purple Madness - A Tribute to Prince at The Lou Sobh Amphitheater
DESCRIPTION:Summer Concert Series at the Lou Sobh Amphitheater brought to you by The Providence Group. \n\nThe “Purple Madness” is the ultimate celebration of the most widely beloved entertainer and profoundly influential artistof all-time. Bobby Miller presents an electrifying performance that can be best described as\, high energy and a “must see” performance. The Prince Purple Madness Tribute Show have all but perfected every last nuance in recreating the sights and sounds of the artist Prince.It is with great honor and utmost reverence that The Prince Tribute Band was formed. For anyone who wasn’t fortunate enough to have witnessed Prince live show\, the experience was undeniably one of the best live performances on the planet. It was with this idea in mind that Bobby Miller chose to re-create some of Prince most memorable concert moments. The Production team consist of Bobby Miller as the artist\, backed by some of the most talented dancers and musicians that have toured the US and abroad. Collectively\, the team consists of over a 100 years of music experience. The group lovingly describes their show as a performance that is second to none.\n \nREMINDER: Free admission & free parking. No coolers\, outside food\, outside alcoholic beverages\, cans\, glass bottles\, or smoking allowed. Friendly dogs on-leash are welcome! BYO lawn chairs or blankets to sit on. Tents are not allowed.To ensure the safety and enjoyment of our patrons\, it is required that all balls are stored away once the music starts. Any throwing or kicking of objects is strictly prohibited during the show.
URL:https://cummingcitycenter.com/event/purple-madness-a-tribute-to-prince-at-the-lou-sobh-amphitheater/
CATEGORIES:Concert
ATTACH;FMTTYPE=image/png:https://cummingcitycenter.com/wp-content/uploads/2025/03/purple-6-14.png
END:VEVENT
END:VCALENDAR