BEGIN:VCALENDAR
VERSION:2.0
PRODID:-//Cumming City Center - ECPv6.15.15//NONSGML v1.0//EN
CALSCALE:GREGORIAN
METHOD:PUBLISH
X-WR-CALNAME:Cumming City Center
X-ORIGINAL-URL:https://cummingcitycenter.com
X-WR-CALDESC:Events for Cumming City Center
REFRESH-INTERVAL;VALUE=DURATION:PT1H
X-Robots-Tag:noindex
X-PUBLISHED-TTL:PT1H
BEGIN:VTIMEZONE
TZID:UTC
BEGIN:STANDARD
TZOFFSETFROM:+0000
TZOFFSETTO:+0000
TZNAME:UTC
DTSTART:20240101T000000
END:STANDARD
END:VTIMEZONE
BEGIN:VEVENT
DTSTART;TZID=UTC:20250628T200000
DTEND;TZID=UTC:20250628T220000
DTSTAMP:20260423T133504
CREATED:20250326T042202Z
LAST-MODIFIED:20250606T225959Z
UID:10000337-1751140800-1751148000@cummingcitycenter.com
SUMMARY:Radio 80s at The Lou Sobh Amphitheater
DESCRIPTION:Summer Concert Series at the Lou Sobh Amphitheater brought to you by The Providence Group. \n\nRadio 80s Band is based out of Atlanta\, GA and delivers a new sound experience for true 80’s music fans. No Getups — No Gimmicks! Not the ordinary\, everyday Top 10 songs you’d expect to hear from an 80’s cover band\, but songs that go beyond that and make you realize how much more there was to love about one of the greatest decades of music! There are no pre-recorded tracks\, no silly costumes\, no big wigs\, no bad spandex! It’s a night of nostalgia and fun that will keep you coming back again and again to experience some of the greatest moments in 80s Pop/Rock radio!\n \nREMINDER: Free admission & free parking. No coolers\, outside food\, outside alcoholic beverages\, cans\, glass bottles\, or smoking allowed. Friendly dogs on-leash are welcome! BYO lawn chairs or blankets to sit on. Tents are not allowed.To ensure the safety and enjoyment of our patrons\, it is required that all balls are stored away once the music starts. Any throwing or kicking of objects is strictly prohibited during the show.
URL:https://cummingcitycenter.com/event/radio-80s-at-the-lou-sobh-amphitheater/
CATEGORIES:Concert
ATTACH;FMTTYPE=image/png:https://cummingcitycenter.com/wp-content/uploads/2025/03/RADIO-8Os-6-28.png
END:VEVENT
END:VCALENDAR