BEGIN:VCALENDAR
VERSION:2.0
PRODID:-//Cumming City Center - ECPv6.15.15//NONSGML v1.0//EN
CALSCALE:GREGORIAN
METHOD:PUBLISH
X-WR-CALNAME:Cumming City Center
X-ORIGINAL-URL:https://cummingcitycenter.com
X-WR-CALDESC:Events for Cumming City Center
REFRESH-INTERVAL;VALUE=DURATION:PT1H
X-Robots-Tag:noindex
X-PUBLISHED-TTL:PT1H
BEGIN:VTIMEZONE
TZID:UTC
BEGIN:STANDARD
TZOFFSETFROM:+0000
TZOFFSETTO:+0000
TZNAME:UTC
DTSTART:20220101T000000
END:STANDARD
END:VTIMEZONE
BEGIN:VEVENT
DTSTART;TZID=UTC:20230423T140000
DTEND;TZID=UTC:20230423T140000
DTSTAMP:20260423T061833
CREATED:20250304T010431Z
LAST-MODIFIED:20250326T012216Z
UID:10000030-1682258400-1682258400@cummingcitycenter.com
SUMMARY:Walk for Recovery
DESCRIPTION:Join Shatterproof\, Forsyth County Drug Awareness Council\, Forsyth County Community Connection\, Full Circle\, Realty 4 Rehab\, No Longer Bound and The Connection in a “Walk for Recovery” to be held on Sunday\, April 23\, 2023\, 2 pm – 5 pm\, City Center in Cumming\, GA. No family is immune from addiction. Walk together for recovery.\n\n\nShatterproof Forsyth County Drug Awareness Council Forsyth County Community Connection FullCircle Georgia Realty4recovery No Longer Bound The Connection Forsyth #walkforrecovery #onestepatatime #recover #recovery #recoveryjourney Forsyth County Georgia Government City of Cumming city hall #garecovers Forsyth County Chamber of Commerce Forsyth Business My Forsyth Cumming City Center #unityincommunity\n\nFor more details please visit http://forsythcountydrugawarenesscouncil.org
URL:https://cummingcitycenter.com/event/walk-for-recovery/
ATTACH;FMTTYPE=image/jpeg:https://cummingcitycenter.com/wp-content/uploads/2024/04/walk-for-recovery.jpg
END:VEVENT
END:VCALENDAR