BEGIN:VCALENDAR
VERSION:2.0
PRODID:-//Cumming City Center - ECPv6.15.15//NONSGML v1.0//EN
CALSCALE:GREGORIAN
METHOD:PUBLISH
X-WR-CALNAME:Cumming City Center
X-ORIGINAL-URL:https://cummingcitycenter.com
X-WR-CALDESC:Events for Cumming City Center
REFRESH-INTERVAL;VALUE=DURATION:PT1H
X-Robots-Tag:noindex
X-PUBLISHED-TTL:PT1H
BEGIN:VTIMEZONE
TZID:America/New_York
BEGIN:DAYLIGHT
TZOFFSETFROM:-0500
TZOFFSETTO:-0400
TZNAME:EDT
DTSTART:20250309T070000
END:DAYLIGHT
BEGIN:STANDARD
TZOFFSETFROM:-0400
TZOFFSETTO:-0500
TZNAME:EST
DTSTART:20251102T060000
END:STANDARD
BEGIN:DAYLIGHT
TZOFFSETFROM:-0500
TZOFFSETTO:-0400
TZNAME:EDT
DTSTART:20260308T070000
END:DAYLIGHT
BEGIN:STANDARD
TZOFFSETFROM:-0400
TZOFFSETTO:-0500
TZNAME:EST
DTSTART:20261101T060000
END:STANDARD
BEGIN:DAYLIGHT
TZOFFSETFROM:-0500
TZOFFSETTO:-0400
TZNAME:EDT
DTSTART:20270314T070000
END:DAYLIGHT
BEGIN:STANDARD
TZOFFSETFROM:-0400
TZOFFSETTO:-0500
TZNAME:EST
DTSTART:20271107T060000
END:STANDARD
END:VTIMEZONE
BEGIN:VEVENT
DTSTART;TZID=America/New_York:20260109T110000
DTEND;TZID=America/New_York:20260109T210000
DTSTAMP:20260422T091554
CREATED:20260109T174919Z
LAST-MODIFIED:20260109T174921Z
UID:10000710-1767956400-1767992400@cummingcitycenter.com
SUMMARY:St. Paddy's Day RockFest
DESCRIPTION:Don’t miss the 3rd annual St. Paddy’s Day RockFest\, Sat March 14 at Lou Sobh Amphitheater in Cumming! \n\n\n\nLive music from 11a-9p (band order and set times TBA):80HD (80s Rock / Pop)JEREMY WOULD LET ME DROWN (90s Grunge)THE RELICS (Classic Rock)RHYTHM MAJOR BAND (Top 40s R&B and Pop)SORROW 2 SEVEN (00s Pop-Punk / Emo) \n\n\n\n \n\n\n\nREMINDER: Free admission & free parking. No coolers\, outside food\, outside alcoholic beverages\, cans\, glass bottles\, or smoking allowed. Friendly dogs on-leash are welcome! BYO lawn chairs or blankets to sit on. Tents are not allowed.To ensure the safety and enjoyment of our patrons\, it is required that all balls are stored away once the music starts. Any throwing or kicking of objects is strictly prohibited during the show.
URL:https://cummingcitycenter.com/event/st-paddys-day-rockfest-cumming/
ATTACH;FMTTYPE=image/jpeg:https://cummingcitycenter.com/wp-content/uploads/2026/01/paddy.jpg
END:VEVENT
BEGIN:VEVENT
DTSTART;TZID=America/New_York:20260110T080000
DTEND;TZID=America/New_York:20260110T110000
DTSTAMP:20260422T091554
CREATED:20260109T162611Z
LAST-MODIFIED:20260109T162709Z
UID:10000619-1768032000-1768042800@cummingcitycenter.com
SUMMARY:Cumming Farmers Market
DESCRIPTION:Come out to the Cumming Farmers Market at the City Center for farm fresh produce; locally raised meats\, eggs and honey; homemade breads\, desserts\, jams and jellies; potted plants; handmade arts and crafts; and more! The Farmers Market will be set up in the Vision Parkway parking lot\, to the left as soon as you enter the City Center from Canton Hwy. Parking for the market is available in this lot and in the parallel spots along Vision Parkway. Due to continuing construction\, the main street area (Vision Drive and Merchant Way)\, as well as the amphitheater and putting course areas\, will be off limits during the Farmers Market. \n\n\n\nInterested in becoming a vendor? Please email Randy Gazaway gazawayfarms@gmail.com or message the Cumming Farmers Market Facebook page.
URL:https://cummingcitycenter.com/event/cummingfarmersmarket/2026-01-10/
ATTACH;FMTTYPE=image/png:https://cummingcitycenter.com/wp-content/uploads/2026/01/1-1.png
END:VEVENT
BEGIN:VEVENT
DTSTART;TZID=America/New_York:20260113T063000
DTEND;TZID=America/New_York:20260113T213000
DTSTAMP:20260422T091554
CREATED:20260109T171818Z
LAST-MODIFIED:20260109T171819Z
UID:10000705-1768285800-1768339800@cummingcitycenter.com
SUMMARY:Singles Social Tuesdays
DESCRIPTION:Join us for Singles Social Tuesdays — a weekly meetup at a new venue in the Cumming City Center. It’s the perfect chance for people of all ages to mix\, mingle\, and enjoy a fun\, friendly atmosphere. \n\n\n\nTuesday\, Jan. 13: Tin Cup Grill \n\n\n\nTuesday\, Jan. 20: Los Rios Cantina \n\n\n\nTuesday Jan. 27: Crooked Culture \n\n\n\nTuesday Feb. 3: Homestead \n\n\n\nTuesday Feb 10: Washington’s Wharf \n\n\n\n \n\n\n\nWhether you’re hoping to spark a connection or simply enjoy meeting new faces\, you’ll have plenty of opportunities to share conversations\, laughter\, and memorable moments. Everyone is invited!
URL:https://cummingcitycenter.com/event/singles-social-tuesdays/2026-01-13/
ATTACH;FMTTYPE=image/png:https://cummingcitycenter.com/wp-content/uploads/2025/07/Tuesday-Single-Social-master.png
END:VEVENT
BEGIN:VEVENT
DTSTART;TZID=America/New_York:20260117T080000
DTEND;TZID=America/New_York:20260117T110000
DTSTAMP:20260422T091554
CREATED:20260109T162611Z
LAST-MODIFIED:20260109T162709Z
UID:10000620-1768636800-1768647600@cummingcitycenter.com
SUMMARY:Cumming Farmers Market
DESCRIPTION:Come out to the Cumming Farmers Market at the City Center for farm fresh produce; locally raised meats\, eggs and honey; homemade breads\, desserts\, jams and jellies; potted plants; handmade arts and crafts; and more! The Farmers Market will be set up in the Vision Parkway parking lot\, to the left as soon as you enter the City Center from Canton Hwy. Parking for the market is available in this lot and in the parallel spots along Vision Parkway. Due to continuing construction\, the main street area (Vision Drive and Merchant Way)\, as well as the amphitheater and putting course areas\, will be off limits during the Farmers Market. \n\n\n\nInterested in becoming a vendor? Please email Randy Gazaway gazawayfarms@gmail.com or message the Cumming Farmers Market Facebook page.
URL:https://cummingcitycenter.com/event/cummingfarmersmarket/2026-01-17/
ATTACH;FMTTYPE=image/png:https://cummingcitycenter.com/wp-content/uploads/2026/01/1-1.png
END:VEVENT
BEGIN:VEVENT
DTSTART;TZID=America/New_York:20260120T063000
DTEND;TZID=America/New_York:20260120T213000
DTSTAMP:20260422T091554
CREATED:20260109T171818Z
LAST-MODIFIED:20260109T171819Z
UID:10000706-1768890600-1768944600@cummingcitycenter.com
SUMMARY:Singles Social Tuesdays
DESCRIPTION:Join us for Singles Social Tuesdays — a weekly meetup at a new venue in the Cumming City Center. It’s the perfect chance for people of all ages to mix\, mingle\, and enjoy a fun\, friendly atmosphere. \n\n\n\nTuesday\, Jan. 13: Tin Cup Grill \n\n\n\nTuesday\, Jan. 20: Los Rios Cantina \n\n\n\nTuesday Jan. 27: Crooked Culture \n\n\n\nTuesday Feb. 3: Homestead \n\n\n\nTuesday Feb 10: Washington’s Wharf \n\n\n\n \n\n\n\nWhether you’re hoping to spark a connection or simply enjoy meeting new faces\, you’ll have plenty of opportunities to share conversations\, laughter\, and memorable moments. Everyone is invited!
URL:https://cummingcitycenter.com/event/singles-social-tuesdays/2026-01-20/
ATTACH;FMTTYPE=image/png:https://cummingcitycenter.com/wp-content/uploads/2025/07/Tuesday-Single-Social-master.png
END:VEVENT
BEGIN:VEVENT
DTSTART;TZID=America/New_York:20260124T080000
DTEND;TZID=America/New_York:20260124T110000
DTSTAMP:20260422T091554
CREATED:20260109T162611Z
LAST-MODIFIED:20260109T162709Z
UID:10000621-1769241600-1769252400@cummingcitycenter.com
SUMMARY:Cumming Farmers Market
DESCRIPTION:Come out to the Cumming Farmers Market at the City Center for farm fresh produce; locally raised meats\, eggs and honey; homemade breads\, desserts\, jams and jellies; potted plants; handmade arts and crafts; and more! The Farmers Market will be set up in the Vision Parkway parking lot\, to the left as soon as you enter the City Center from Canton Hwy. Parking for the market is available in this lot and in the parallel spots along Vision Parkway. Due to continuing construction\, the main street area (Vision Drive and Merchant Way)\, as well as the amphitheater and putting course areas\, will be off limits during the Farmers Market. \n\n\n\nInterested in becoming a vendor? Please email Randy Gazaway gazawayfarms@gmail.com or message the Cumming Farmers Market Facebook page.
URL:https://cummingcitycenter.com/event/cummingfarmersmarket/2026-01-24/
ATTACH;FMTTYPE=image/png:https://cummingcitycenter.com/wp-content/uploads/2026/01/1-1.png
END:VEVENT
BEGIN:VEVENT
DTSTART;TZID=America/New_York:20260127T063000
DTEND;TZID=America/New_York:20260127T213000
DTSTAMP:20260422T091554
CREATED:20260109T171818Z
LAST-MODIFIED:20260109T171819Z
UID:10000707-1769495400-1769549400@cummingcitycenter.com
SUMMARY:Singles Social Tuesdays
DESCRIPTION:Join us for Singles Social Tuesdays — a weekly meetup at a new venue in the Cumming City Center. It’s the perfect chance for people of all ages to mix\, mingle\, and enjoy a fun\, friendly atmosphere. \n\n\n\nTuesday\, Jan. 13: Tin Cup Grill \n\n\n\nTuesday\, Jan. 20: Los Rios Cantina \n\n\n\nTuesday Jan. 27: Crooked Culture \n\n\n\nTuesday Feb. 3: Homestead \n\n\n\nTuesday Feb 10: Washington’s Wharf \n\n\n\n \n\n\n\nWhether you’re hoping to spark a connection or simply enjoy meeting new faces\, you’ll have plenty of opportunities to share conversations\, laughter\, and memorable moments. Everyone is invited!
URL:https://cummingcitycenter.com/event/singles-social-tuesdays/2026-01-27/
ATTACH;FMTTYPE=image/png:https://cummingcitycenter.com/wp-content/uploads/2025/07/Tuesday-Single-Social-master.png
END:VEVENT
BEGIN:VEVENT
DTSTART;TZID=America/New_York:20260131T080000
DTEND;TZID=America/New_York:20260131T110000
DTSTAMP:20260422T091554
CREATED:20260109T162611Z
LAST-MODIFIED:20260109T162709Z
UID:10000622-1769846400-1769857200@cummingcitycenter.com
SUMMARY:Cumming Farmers Market
DESCRIPTION:Come out to the Cumming Farmers Market at the City Center for farm fresh produce; locally raised meats\, eggs and honey; homemade breads\, desserts\, jams and jellies; potted plants; handmade arts and crafts; and more! The Farmers Market will be set up in the Vision Parkway parking lot\, to the left as soon as you enter the City Center from Canton Hwy. Parking for the market is available in this lot and in the parallel spots along Vision Parkway. Due to continuing construction\, the main street area (Vision Drive and Merchant Way)\, as well as the amphitheater and putting course areas\, will be off limits during the Farmers Market. \n\n\n\nInterested in becoming a vendor? Please email Randy Gazaway gazawayfarms@gmail.com or message the Cumming Farmers Market Facebook page.
URL:https://cummingcitycenter.com/event/cummingfarmersmarket/2026-01-31/
ATTACH;FMTTYPE=image/png:https://cummingcitycenter.com/wp-content/uploads/2026/01/1-1.png
END:VEVENT
END:VCALENDAR